BEGIN:VCALENDAR
VERSION:2.0
PRODID:spatie/icalendar-generator
DESCRIPTION:Veranstaltungen von ChorKult Lachen-Speyerdorf e.V.
X-WR-CALDESC:Veranstaltungen von ChorKult Lachen-Speyerdorf e.V.
REFRESH-INTERVAL;VALUE=DURATION:PT1440M
X-PUBLISHED-TTL:PT1440M
BEGIN:VTIMEZONE
TZID:Europe/Berlin
BEGIN:STANDARD
DTSTART:20241027T030000Z
TZOFFSETFROM:+0200
TZOFFSETTO:+0100
END:STANDARD
BEGIN:DAYLIGHT
DTSTART:20250330T020000Z
TZOFFSETFROM:+0100
TZOFFSETTO:+0200
END:DAYLIGHT
BEGIN:STANDARD
DTSTART:20251026T030000Z
TZOFFSETFROM:+0200
TZOFFSETTO:+0100
END:STANDARD
END:VTIMEZONE
BEGIN:VTIMEZONE
TZID:UTC
BEGIN:STANDARD
DTSTART:20250727T085352Z
TZOFFSETFROM:+0000
TZOFFSETTO:+0000
END:STANDARD
END:VTIMEZONE
BEGIN:VEVENT
UID:252-24
DTSTAMP:20260423T085352Z
SUMMARY:Teilnahme am Kerweumzug und Auftritt bei der Kerweeröffnung
LOCATION:
ORGANIZER;CN=webbastler:MAILTO:mario.hiegle@chorkult-lsp.de
DTSTART;TZID=Europe/Berlin:20250425T180000
DTEND;TZID=Europe/Berlin:20250425T200000
X-ALT-DESC;FMTTYPE=TEXT/HTML:
CATEGORIES:Events
URL;VALUE=URI:https://chorkult-lsp.de/mc-events/teilnahme-am-kerweumzug-und
 -auftritt-bei-der-kerweeroeffnung/
METHOD:PUBLISH
END:VEVENT
END:VCALENDAR