BEGIN:VCALENDAR
VERSION:2.0
PRODID:spatie/icalendar-generator
DESCRIPTION:Veranstaltungen von ChorKult Lachen-Speyerdorf e.V.
X-WR-CALDESC:Veranstaltungen von ChorKult Lachen-Speyerdorf e.V.
REFRESH-INTERVAL;VALUE=DURATION:PT1440M
X-PUBLISHED-TTL:PT1440M
BEGIN:VTIMEZONE
TZID:Europe/Berlin
BEGIN:STANDARD
DTSTART:20251026T030000Z
TZOFFSETFROM:+0200
TZOFFSETTO:+0100
END:STANDARD
BEGIN:DAYLIGHT
DTSTART:20260329T020000Z
TZOFFSETFROM:+0100
TZOFFSETTO:+0200
END:DAYLIGHT
END:VTIMEZONE
BEGIN:VTIMEZONE
TZID:UTC
BEGIN:STANDARD
DTSTART:20250725T101237Z
TZOFFSETFROM:+0000
TZOFFSETTO:+0000
END:STANDARD
END:VTIMEZONE
BEGIN:VEVENT
UID:429-29
DTSTAMP:20260421T101237Z
SUMMARY:Chorprobe ChorColores
LOCATION:August-Becker-Schule Pestalozzistraße 4  Neustadt   67435
ORGANIZER;CN=webbastler:MAILTO:mario.hiegle@chorkult-lsp.de
RRULE:FREQ=WEEKLY;INTERVAL=2;UNTIL=20260402T000000Z
DTSTART;TZID=Europe/Berlin:20260115T200000
DTEND;TZID=Europe/Berlin:20260115T210000
X-ALT-DESC;FMTTYPE=TEXT/HTML:
CATEGORIES:ChorColores
URL;VALUE=URI:https://chorkult-lsp.de/mc-events/chorprobe-chorcolores/?mc_i
 d=429
METHOD:PUBLISH
END:VEVENT
END:VCALENDAR